BEGIN:VCALENDAR
VERSION:2.0
PRODID:-//Ecclesia Kirche - ECPv6.15.14//NONSGML v1.0//EN
CALSCALE:GREGORIAN
METHOD:PUBLISH
X-WR-CALNAME:Ecclesia Kirche
X-ORIGINAL-URL:https://www.ecclesia-kirche.de
X-WR-CALDESC:Veranstaltungen für Ecclesia Kirche
REFRESH-INTERVAL;VALUE=DURATION:PT1H
X-Robots-Tag:noindex
X-PUBLISHED-TTL:PT1H
BEGIN:VTIMEZONE
TZID:Europe/Berlin
BEGIN:DAYLIGHT
TZOFFSETFROM:+0100
TZOFFSETTO:+0200
TZNAME:CEST
DTSTART:20250330T010000
END:DAYLIGHT
BEGIN:STANDARD
TZOFFSETFROM:+0200
TZOFFSETTO:+0100
TZNAME:CET
DTSTART:20251026T010000
END:STANDARD
BEGIN:DAYLIGHT
TZOFFSETFROM:+0100
TZOFFSETTO:+0200
TZNAME:CEST
DTSTART:20260329T010000
END:DAYLIGHT
BEGIN:STANDARD
TZOFFSETFROM:+0200
TZOFFSETTO:+0100
TZNAME:CET
DTSTART:20261025T010000
END:STANDARD
BEGIN:DAYLIGHT
TZOFFSETFROM:+0100
TZOFFSETTO:+0200
TZNAME:CEST
DTSTART:20270328T010000
END:DAYLIGHT
BEGIN:STANDARD
TZOFFSETFROM:+0200
TZOFFSETTO:+0100
TZNAME:CET
DTSTART:20271031T010000
END:STANDARD
BEGIN:DAYLIGHT
TZOFFSETFROM:+0100
TZOFFSETTO:+0200
TZNAME:CEST
DTSTART:20280326T010000
END:DAYLIGHT
BEGIN:STANDARD
TZOFFSETFROM:+0200
TZOFFSETTO:+0100
TZNAME:CET
DTSTART:20281029T010000
END:STANDARD
END:VTIMEZONE
BEGIN:VEVENT
DTSTART;TZID=Europe/Berlin:20260503T103000
DTEND;TZID=Europe/Berlin:20260503T120000
DTSTAMP:20260421T185704
CREATED:20260418T130723Z
LAST-MODIFIED:20260418T130723Z
UID:10004658-1777804200-1777809600@www.ecclesia-kirche.de
SUMMARY:Community Gottesdienst Hilpoltstein
DESCRIPTION:Der Sonntag ist das Highlight der Woche. Wir treffen uns\, um gemeinsam Gott zu feiern\, von Gott zu hören und Zeit miteinander zu verbringen. Im Anschluss gibt es die Möglichkeit\, bei einem kleinen Essen zusammenzubleiben\, ins Gespräch zu kommen und Gemeinschaft zu erleben. Um abzuschalten\, Kraft zu tanken und Inspiration für die folgende Woche zu bekommen\, ist unser Community Gottesdienst genau das Richtige.
URL:https://www.ecclesia-kirche.de/event/community-gottesdienst-hilpoltstein/2026-05-03/
LOCATION:Hilpoltstein – Hochstr. 7\, Horchstr. 7\, Hilpolstein\, Bayern\, 91161
CATEGORIES:Gottesdienste,Standort Hilpoltstein
END:VEVENT
BEGIN:VEVENT
DTSTART;TZID=Europe/Berlin:20260517T103000
DTEND;TZID=Europe/Berlin:20260517T120000
DTSTAMP:20260421T185704
CREATED:20260418T130723Z
LAST-MODIFIED:20260418T130723Z
UID:10004659-1779013800-1779019200@www.ecclesia-kirche.de
SUMMARY:Community Gottesdienst Hilpoltstein
DESCRIPTION:Der Sonntag ist das Highlight der Woche. Wir treffen uns\, um gemeinsam Gott zu feiern\, von Gott zu hören und Zeit miteinander zu verbringen. Im Anschluss gibt es die Möglichkeit\, bei einem kleinen Essen zusammenzubleiben\, ins Gespräch zu kommen und Gemeinschaft zu erleben. Um abzuschalten\, Kraft zu tanken und Inspiration für die folgende Woche zu bekommen\, ist unser Community Gottesdienst genau das Richtige.
URL:https://www.ecclesia-kirche.de/event/community-gottesdienst-hilpoltstein/2026-05-17/
LOCATION:Hilpoltstein – Hochstr. 7\, Horchstr. 7\, Hilpolstein\, Bayern\, 91161
CATEGORIES:Gottesdienste,Standort Hilpoltstein
END:VEVENT
BEGIN:VEVENT
DTSTART;TZID=Europe/Berlin:20260531T103000
DTEND;TZID=Europe/Berlin:20260531T120000
DTSTAMP:20260421T185704
CREATED:20260418T130723Z
LAST-MODIFIED:20260418T130723Z
UID:10004660-1780223400-1780228800@www.ecclesia-kirche.de
SUMMARY:Community Gottesdienst Hilpoltstein
DESCRIPTION:Der Sonntag ist das Highlight der Woche. Wir treffen uns\, um gemeinsam Gott zu feiern\, von Gott zu hören und Zeit miteinander zu verbringen. Im Anschluss gibt es die Möglichkeit\, bei einem kleinen Essen zusammenzubleiben\, ins Gespräch zu kommen und Gemeinschaft zu erleben. Um abzuschalten\, Kraft zu tanken und Inspiration für die folgende Woche zu bekommen\, ist unser Community Gottesdienst genau das Richtige.
URL:https://www.ecclesia-kirche.de/event/community-gottesdienst-hilpoltstein/2026-05-31/
LOCATION:Hilpoltstein – Hochstr. 7\, Horchstr. 7\, Hilpolstein\, Bayern\, 91161
CATEGORIES:Gottesdienste,Standort Hilpoltstein
END:VEVENT
BEGIN:VEVENT
DTSTART;TZID=Europe/Berlin:20260614T103000
DTEND;TZID=Europe/Berlin:20260614T120000
DTSTAMP:20260421T185704
CREATED:20260418T130723Z
LAST-MODIFIED:20260418T130723Z
UID:10004661-1781433000-1781438400@www.ecclesia-kirche.de
SUMMARY:Community Gottesdienst Hilpoltstein
DESCRIPTION:Der Sonntag ist das Highlight der Woche. Wir treffen uns\, um gemeinsam Gott zu feiern\, von Gott zu hören und Zeit miteinander zu verbringen. Im Anschluss gibt es die Möglichkeit\, bei einem kleinen Essen zusammenzubleiben\, ins Gespräch zu kommen und Gemeinschaft zu erleben. Um abzuschalten\, Kraft zu tanken und Inspiration für die folgende Woche zu bekommen\, ist unser Community Gottesdienst genau das Richtige.
URL:https://www.ecclesia-kirche.de/event/community-gottesdienst-hilpoltstein/2026-06-14/
LOCATION:Hilpoltstein – Hochstr. 7\, Horchstr. 7\, Hilpolstein\, Bayern\, 91161
CATEGORIES:Gottesdienste,Standort Hilpoltstein
END:VEVENT
BEGIN:VEVENT
DTSTART;TZID=Europe/Berlin:20260628T103000
DTEND;TZID=Europe/Berlin:20260628T120000
DTSTAMP:20260421T185704
CREATED:20260418T130723Z
LAST-MODIFIED:20260418T130723Z
UID:10004662-1782642600-1782648000@www.ecclesia-kirche.de
SUMMARY:Community Gottesdienst Hilpoltstein
DESCRIPTION:Der Sonntag ist das Highlight der Woche. Wir treffen uns\, um gemeinsam Gott zu feiern\, von Gott zu hören und Zeit miteinander zu verbringen. Im Anschluss gibt es die Möglichkeit\, bei einem kleinen Essen zusammenzubleiben\, ins Gespräch zu kommen und Gemeinschaft zu erleben. Um abzuschalten\, Kraft zu tanken und Inspiration für die folgende Woche zu bekommen\, ist unser Community Gottesdienst genau das Richtige.
URL:https://www.ecclesia-kirche.de/event/community-gottesdienst-hilpoltstein/2026-06-28/
LOCATION:Hilpoltstein – Hochstr. 7\, Horchstr. 7\, Hilpolstein\, Bayern\, 91161
CATEGORIES:Gottesdienste,Standort Hilpoltstein
END:VEVENT
BEGIN:VEVENT
DTSTART;TZID=Europe/Berlin:20260712T103000
DTEND;TZID=Europe/Berlin:20260712T120000
DTSTAMP:20260421T185704
CREATED:20260418T130723Z
LAST-MODIFIED:20260418T130723Z
UID:10004663-1783852200-1783857600@www.ecclesia-kirche.de
SUMMARY:Community Gottesdienst Hilpoltstein
DESCRIPTION:Der Sonntag ist das Highlight der Woche. Wir treffen uns\, um gemeinsam Gott zu feiern\, von Gott zu hören und Zeit miteinander zu verbringen. Im Anschluss gibt es die Möglichkeit\, bei einem kleinen Essen zusammenzubleiben\, ins Gespräch zu kommen und Gemeinschaft zu erleben. Um abzuschalten\, Kraft zu tanken und Inspiration für die folgende Woche zu bekommen\, ist unser Community Gottesdienst genau das Richtige.
URL:https://www.ecclesia-kirche.de/event/community-gottesdienst-hilpoltstein/2026-07-12/
LOCATION:Hilpoltstein – Hochstr. 7\, Horchstr. 7\, Hilpolstein\, Bayern\, 91161
CATEGORIES:Gottesdienste,Standort Hilpoltstein
END:VEVENT
BEGIN:VEVENT
DTSTART;TZID=Europe/Berlin:20260726T103000
DTEND;TZID=Europe/Berlin:20260726T120000
DTSTAMP:20260421T185704
CREATED:20260418T130723Z
LAST-MODIFIED:20260418T130723Z
UID:10004664-1785061800-1785067200@www.ecclesia-kirche.de
SUMMARY:Community Gottesdienst Hilpoltstein
DESCRIPTION:Der Sonntag ist das Highlight der Woche. Wir treffen uns\, um gemeinsam Gott zu feiern\, von Gott zu hören und Zeit miteinander zu verbringen. Im Anschluss gibt es die Möglichkeit\, bei einem kleinen Essen zusammenzubleiben\, ins Gespräch zu kommen und Gemeinschaft zu erleben. Um abzuschalten\, Kraft zu tanken und Inspiration für die folgende Woche zu bekommen\, ist unser Community Gottesdienst genau das Richtige.
URL:https://www.ecclesia-kirche.de/event/community-gottesdienst-hilpoltstein/2026-07-26/
LOCATION:Hilpoltstein – Hochstr. 7\, Horchstr. 7\, Hilpolstein\, Bayern\, 91161
CATEGORIES:Gottesdienste,Standort Hilpoltstein
END:VEVENT
BEGIN:VEVENT
DTSTART;TZID=Europe/Berlin:20260906T103000
DTEND;TZID=Europe/Berlin:20260906T120000
DTSTAMP:20260421T185704
CREATED:20260418T130723Z
LAST-MODIFIED:20260418T130723Z
UID:10004665-1788690600-1788696000@www.ecclesia-kirche.de
SUMMARY:Community Gottesdienst Hilpoltstein
DESCRIPTION:Der Sonntag ist das Highlight der Woche. Wir treffen uns\, um gemeinsam Gott zu feiern\, von Gott zu hören und Zeit miteinander zu verbringen. Im Anschluss gibt es die Möglichkeit\, bei einem kleinen Essen zusammenzubleiben\, ins Gespräch zu kommen und Gemeinschaft zu erleben. Um abzuschalten\, Kraft zu tanken und Inspiration für die folgende Woche zu bekommen\, ist unser Community Gottesdienst genau das Richtige.
URL:https://www.ecclesia-kirche.de/event/community-gottesdienst-hilpoltstein/2026-09-06/
LOCATION:Hilpoltstein – Hochstr. 7\, Horchstr. 7\, Hilpolstein\, Bayern\, 91161
CATEGORIES:Gottesdienste,Standort Hilpoltstein
END:VEVENT
BEGIN:VEVENT
DTSTART;TZID=Europe/Berlin:20260920T103000
DTEND;TZID=Europe/Berlin:20260920T120000
DTSTAMP:20260421T185704
CREATED:20260418T130723Z
LAST-MODIFIED:20260418T130723Z
UID:10004666-1789900200-1789905600@www.ecclesia-kirche.de
SUMMARY:Community Gottesdienst Hilpoltstein
DESCRIPTION:Der Sonntag ist das Highlight der Woche. Wir treffen uns\, um gemeinsam Gott zu feiern\, von Gott zu hören und Zeit miteinander zu verbringen. Im Anschluss gibt es die Möglichkeit\, bei einem kleinen Essen zusammenzubleiben\, ins Gespräch zu kommen und Gemeinschaft zu erleben. Um abzuschalten\, Kraft zu tanken und Inspiration für die folgende Woche zu bekommen\, ist unser Community Gottesdienst genau das Richtige.
URL:https://www.ecclesia-kirche.de/event/community-gottesdienst-hilpoltstein/2026-09-20/
LOCATION:Hilpoltstein – Hochstr. 7\, Horchstr. 7\, Hilpolstein\, Bayern\, 91161
CATEGORIES:Gottesdienste,Standort Hilpoltstein
END:VEVENT
BEGIN:VEVENT
DTSTART;TZID=Europe/Berlin:20261004T103000
DTEND;TZID=Europe/Berlin:20261004T120000
DTSTAMP:20260421T185704
CREATED:20260418T130723Z
LAST-MODIFIED:20260418T130723Z
UID:10004667-1791109800-1791115200@www.ecclesia-kirche.de
SUMMARY:Community Gottesdienst Hilpoltstein
DESCRIPTION:Der Sonntag ist das Highlight der Woche. Wir treffen uns\, um gemeinsam Gott zu feiern\, von Gott zu hören und Zeit miteinander zu verbringen. Im Anschluss gibt es die Möglichkeit\, bei einem kleinen Essen zusammenzubleiben\, ins Gespräch zu kommen und Gemeinschaft zu erleben. Um abzuschalten\, Kraft zu tanken und Inspiration für die folgende Woche zu bekommen\, ist unser Community Gottesdienst genau das Richtige.
URL:https://www.ecclesia-kirche.de/event/community-gottesdienst-hilpoltstein/2026-10-04/
LOCATION:Hilpoltstein – Hochstr. 7\, Horchstr. 7\, Hilpolstein\, Bayern\, 91161
CATEGORIES:Gottesdienste,Standort Hilpoltstein
END:VEVENT
BEGIN:VEVENT
DTSTART;TZID=Europe/Berlin:20261018T103000
DTEND;TZID=Europe/Berlin:20261018T120000
DTSTAMP:20260421T185704
CREATED:20260418T130723Z
LAST-MODIFIED:20260418T130723Z
UID:10004668-1792319400-1792324800@www.ecclesia-kirche.de
SUMMARY:Community Gottesdienst Hilpoltstein
DESCRIPTION:Der Sonntag ist das Highlight der Woche. Wir treffen uns\, um gemeinsam Gott zu feiern\, von Gott zu hören und Zeit miteinander zu verbringen. Im Anschluss gibt es die Möglichkeit\, bei einem kleinen Essen zusammenzubleiben\, ins Gespräch zu kommen und Gemeinschaft zu erleben. Um abzuschalten\, Kraft zu tanken und Inspiration für die folgende Woche zu bekommen\, ist unser Community Gottesdienst genau das Richtige.
URL:https://www.ecclesia-kirche.de/event/community-gottesdienst-hilpoltstein/2026-10-18/
LOCATION:Hilpoltstein – Hochstr. 7\, Horchstr. 7\, Hilpolstein\, Bayern\, 91161
CATEGORIES:Gottesdienste,Standort Hilpoltstein
END:VEVENT
BEGIN:VEVENT
DTSTART;TZID=Europe/Berlin:20261101T103000
DTEND;TZID=Europe/Berlin:20261101T120000
DTSTAMP:20260421T185704
CREATED:20260418T130723Z
LAST-MODIFIED:20260418T130723Z
UID:10004669-1793529000-1793534400@www.ecclesia-kirche.de
SUMMARY:Community Gottesdienst Hilpoltstein
DESCRIPTION:Der Sonntag ist das Highlight der Woche. Wir treffen uns\, um gemeinsam Gott zu feiern\, von Gott zu hören und Zeit miteinander zu verbringen. Im Anschluss gibt es die Möglichkeit\, bei einem kleinen Essen zusammenzubleiben\, ins Gespräch zu kommen und Gemeinschaft zu erleben. Um abzuschalten\, Kraft zu tanken und Inspiration für die folgende Woche zu bekommen\, ist unser Community Gottesdienst genau das Richtige.
URL:https://www.ecclesia-kirche.de/event/community-gottesdienst-hilpoltstein/2026-11-01/
LOCATION:Hilpoltstein – Hochstr. 7\, Horchstr. 7\, Hilpolstein\, Bayern\, 91161
CATEGORIES:Gottesdienste,Standort Hilpoltstein
END:VEVENT
BEGIN:VEVENT
DTSTART;TZID=Europe/Berlin:20261115T103000
DTEND;TZID=Europe/Berlin:20261115T120000
DTSTAMP:20260421T185705
CREATED:20260418T130723Z
LAST-MODIFIED:20260418T130723Z
UID:10004670-1794738600-1794744000@www.ecclesia-kirche.de
SUMMARY:Community Gottesdienst Hilpoltstein
DESCRIPTION:Der Sonntag ist das Highlight der Woche. Wir treffen uns\, um gemeinsam Gott zu feiern\, von Gott zu hören und Zeit miteinander zu verbringen. Im Anschluss gibt es die Möglichkeit\, bei einem kleinen Essen zusammenzubleiben\, ins Gespräch zu kommen und Gemeinschaft zu erleben. Um abzuschalten\, Kraft zu tanken und Inspiration für die folgende Woche zu bekommen\, ist unser Community Gottesdienst genau das Richtige.
URL:https://www.ecclesia-kirche.de/event/community-gottesdienst-hilpoltstein/2026-11-15/
LOCATION:Hilpoltstein – Hochstr. 7\, Horchstr. 7\, Hilpolstein\, Bayern\, 91161
CATEGORIES:Gottesdienste,Standort Hilpoltstein
END:VEVENT
BEGIN:VEVENT
DTSTART;TZID=Europe/Berlin:20261129T103000
DTEND;TZID=Europe/Berlin:20261129T120000
DTSTAMP:20260421T185705
CREATED:20260418T130723Z
LAST-MODIFIED:20260418T130723Z
UID:10004671-1795948200-1795953600@www.ecclesia-kirche.de
SUMMARY:Community Gottesdienst Hilpoltstein
DESCRIPTION:Der Sonntag ist das Highlight der Woche. Wir treffen uns\, um gemeinsam Gott zu feiern\, von Gott zu hören und Zeit miteinander zu verbringen. Im Anschluss gibt es die Möglichkeit\, bei einem kleinen Essen zusammenzubleiben\, ins Gespräch zu kommen und Gemeinschaft zu erleben. Um abzuschalten\, Kraft zu tanken und Inspiration für die folgende Woche zu bekommen\, ist unser Community Gottesdienst genau das Richtige.
URL:https://www.ecclesia-kirche.de/event/community-gottesdienst-hilpoltstein/2026-11-29/
LOCATION:Hilpoltstein – Hochstr. 7\, Horchstr. 7\, Hilpolstein\, Bayern\, 91161
CATEGORIES:Gottesdienste,Standort Hilpoltstein
END:VEVENT
BEGIN:VEVENT
DTSTART;TZID=Europe/Berlin:20261213T103000
DTEND;TZID=Europe/Berlin:20261213T120000
DTSTAMP:20260421T185705
CREATED:20260418T130723Z
LAST-MODIFIED:20260418T130723Z
UID:10004672-1797157800-1797163200@www.ecclesia-kirche.de
SUMMARY:Community Gottesdienst Hilpoltstein
DESCRIPTION:Der Sonntag ist das Highlight der Woche. Wir treffen uns\, um gemeinsam Gott zu feiern\, von Gott zu hören und Zeit miteinander zu verbringen. Im Anschluss gibt es die Möglichkeit\, bei einem kleinen Essen zusammenzubleiben\, ins Gespräch zu kommen und Gemeinschaft zu erleben. Um abzuschalten\, Kraft zu tanken und Inspiration für die folgende Woche zu bekommen\, ist unser Community Gottesdienst genau das Richtige.
URL:https://www.ecclesia-kirche.de/event/community-gottesdienst-hilpoltstein/2026-12-13/
LOCATION:Hilpoltstein – Hochstr. 7\, Horchstr. 7\, Hilpolstein\, Bayern\, 91161
CATEGORIES:Gottesdienste,Standort Hilpoltstein
END:VEVENT
BEGIN:VEVENT
DTSTART;TZID=Europe/Berlin:20261227T103000
DTEND;TZID=Europe/Berlin:20261227T120000
DTSTAMP:20260421T185705
CREATED:20260418T130723Z
LAST-MODIFIED:20260418T130723Z
UID:10004673-1798367400-1798372800@www.ecclesia-kirche.de
SUMMARY:Community Gottesdienst Hilpoltstein
DESCRIPTION:Der Sonntag ist das Highlight der Woche. Wir treffen uns\, um gemeinsam Gott zu feiern\, von Gott zu hören und Zeit miteinander zu verbringen. Im Anschluss gibt es die Möglichkeit\, bei einem kleinen Essen zusammenzubleiben\, ins Gespräch zu kommen und Gemeinschaft zu erleben. Um abzuschalten\, Kraft zu tanken und Inspiration für die folgende Woche zu bekommen\, ist unser Community Gottesdienst genau das Richtige.
URL:https://www.ecclesia-kirche.de/event/community-gottesdienst-hilpoltstein/2026-12-27/
LOCATION:Hilpoltstein – Hochstr. 7\, Horchstr. 7\, Hilpolstein\, Bayern\, 91161
CATEGORIES:Gottesdienste,Standort Hilpoltstein
END:VEVENT
BEGIN:VEVENT
DTSTART;TZID=Europe/Berlin:20270110T103000
DTEND;TZID=Europe/Berlin:20270110T120000
DTSTAMP:20260421T185705
CREATED:20260418T130723Z
LAST-MODIFIED:20260418T130723Z
UID:10004674-1799577000-1799582400@www.ecclesia-kirche.de
SUMMARY:Community Gottesdienst Hilpoltstein
DESCRIPTION:Der Sonntag ist das Highlight der Woche. Wir treffen uns\, um gemeinsam Gott zu feiern\, von Gott zu hören und Zeit miteinander zu verbringen. Im Anschluss gibt es die Möglichkeit\, bei einem kleinen Essen zusammenzubleiben\, ins Gespräch zu kommen und Gemeinschaft zu erleben. Um abzuschalten\, Kraft zu tanken und Inspiration für die folgende Woche zu bekommen\, ist unser Community Gottesdienst genau das Richtige.
URL:https://www.ecclesia-kirche.de/event/community-gottesdienst-hilpoltstein/2027-01-10/
LOCATION:Hilpoltstein – Hochstr. 7\, Horchstr. 7\, Hilpolstein\, Bayern\, 91161
CATEGORIES:Gottesdienste,Standort Hilpoltstein
END:VEVENT
BEGIN:VEVENT
DTSTART;TZID=Europe/Berlin:20270124T103000
DTEND;TZID=Europe/Berlin:20270124T120000
DTSTAMP:20260421T185705
CREATED:20260418T130723Z
LAST-MODIFIED:20260418T130723Z
UID:10004675-1800786600-1800792000@www.ecclesia-kirche.de
SUMMARY:Community Gottesdienst Hilpoltstein
DESCRIPTION:Der Sonntag ist das Highlight der Woche. Wir treffen uns\, um gemeinsam Gott zu feiern\, von Gott zu hören und Zeit miteinander zu verbringen. Im Anschluss gibt es die Möglichkeit\, bei einem kleinen Essen zusammenzubleiben\, ins Gespräch zu kommen und Gemeinschaft zu erleben. Um abzuschalten\, Kraft zu tanken und Inspiration für die folgende Woche zu bekommen\, ist unser Community Gottesdienst genau das Richtige.
URL:https://www.ecclesia-kirche.de/event/community-gottesdienst-hilpoltstein/2027-01-24/
LOCATION:Hilpoltstein – Hochstr. 7\, Horchstr. 7\, Hilpolstein\, Bayern\, 91161
CATEGORIES:Gottesdienste,Standort Hilpoltstein
END:VEVENT
END:VCALENDAR